BEGIN:VCALENDAR
VERSION:2.0
PRODID:-//Acme Widgets\, Inc.//NONSGML ExportToCalendar//EN
CALSCALE:GREGORIAN
BEGIN:VEVENT
DTSTAMP:20260422T155658Z
UID:58ae8f1c-6f15-4e84-88ed-a6e4f0783172
DTSTART:20260425T111500
DTEND:20260425T120000
DESCRIPTION:Inspection for 1 / 42 Browns Road\, ST ALBANS CANTERBURY 8014
LOCATION:1 / 42 Browns Road\, ST ALBANS CANTERBURY 8014
SUMMARY:1 / 42 Browns Road\, ST ALBANS CANTERBURY 8014
END:VEVENT
END:VCALENDAR
