BEGIN:VCALENDAR
VERSION:2.0
PRODID:-//Acme Widgets\, Inc.//NONSGML ExportToCalendar//EN
CALSCALE:GREGORIAN
BEGIN:VEVENT
DTSTAMP:20260422T160552Z
UID:c8b32b5f-611b-4bba-b2c3-36e1cd60034b
DTSTART:20260425T100000
DTEND:20260425T103000
DESCRIPTION:Inspection for 1 / 16 Rutherford Street\, WOOLSTON CANTERBURY 8
 022
LOCATION:1 / 16 Rutherford Street\, WOOLSTON CANTERBURY 8022
SUMMARY:1 / 16 Rutherford Street\, WOOLSTON CANTERBURY 8022
END:VEVENT
END:VCALENDAR
