BEGIN:VCALENDAR
VERSION:2.0
PRODID:-//Acme Widgets\, Inc.//NONSGML ExportToCalendar//EN
CALSCALE:GREGORIAN
BEGIN:VEVENT
DTSTAMP:20260422T155727Z
UID:1d60ddb4-0e24-49cf-951e-38549521a40a
DTSTART:20260426T111500
DTEND:20260426T120000
DESCRIPTION:Inspection for 1 / 42 Browns Road\, ST ALBANS CANTERBURY 8014
LOCATION:1 / 42 Browns Road\, ST ALBANS CANTERBURY 8014
SUMMARY:1 / 42 Browns Road\, ST ALBANS CANTERBURY 8014
END:VEVENT
END:VCALENDAR
