BEGIN:VCALENDAR
VERSION:2.0
PRODID:-//Acme Widgets\, Inc.//NONSGML ExportToCalendar//EN
CALSCALE:GREGORIAN
BEGIN:VEVENT
DTSTAMP:20260422T160644Z
UID:d9b34d13-95bd-4f7f-a52e-5d79eef981f4
DTSTART:20260426T100000
DTEND:20260426T103000
DESCRIPTION:Inspection for 1 / 16 Rutherford Street\, WOOLSTON CANTERBURY 8
 022
LOCATION:1 / 16 Rutherford Street\, WOOLSTON CANTERBURY 8022
SUMMARY:1 / 16 Rutherford Street\, WOOLSTON CANTERBURY 8022
END:VEVENT
END:VCALENDAR
